BEGIN:VCALENDAR
VERSION:2.0
PRODID:icalendar-ruby
CALSCALE:GREGORIAN
METHOD:PUBLISH
BEGIN:VEVENT
DTSTAMP:20260423T210502Z
UID:2-409759@peacemissionary279.tithelysetup2.com
DTSTART:20260430T013000Z
DTEND:20260430T030000Z
CLASS:PUBLIC
CREATED:20260423T101104
DESCRIPTION:Join Us for Wednesday Night Bible Study\nThere is something pow
 erful about coming together in the middle of the week to be refreshed\, re
 focused\, and rooted in God’s Word.\nAt Peace Missionary Ministries\, ou
 r Bible study is designed to help you grow\, ask questions\, and strengthe
 n your walk with Christ in a real and practical way.\nEvery Wednesday at 6
 :30 PMSouth Church (Erwin Chapel)\nCome ready to learn\, engage\, and be t
 ransformed.
LAST-MODIFIED:20260423T101104
LOCATION:90 Main Street\, New Britain\, CT 06051
SUMMARY:Mid-Week Service | Wednesday Night Bible Study
URL;VALUE=URI:https://peacemissionary279.tithelysetup2.com/events/mid-week-
 service-wednesday-night-bible-study/2026-04-29
ATTACH;FILENAME=Make-Bible-Study-Personal_1400.jpg;FMTTYPE=image/jpeg:https
 ://dq5pwpg1q8ru0.cloudfront.net/2026/04/23/17/11/03/5fe11b8c-7169-4e85-baa
 d-91788bebb254/Make-Bible-Study-Personal_1400.jpg
END:VEVENT
END:VCALENDAR
