BEGIN:VCALENDAR
VERSION:2.0
PRODID:icalendar-ruby
CALSCALE:GREGORIAN
METHOD:PUBLISH
BEGIN:VEVENT
DTSTAMP:20260423T210230Z
UID:1-409791@peacemissionary279.tithelysetup2.com
DTSTART:20260718T190000Z
DTEND:20260718T220000Z
CLASS:PUBLIC
CREATED:20260423T102755
DESCRIPTION:You’re Invited to a Historic Moment\nJoin us as we celebrate 
 the Pastoral Installation of Pastor-Elect Joseph Wilkerson\, Jr.\, MDiv\, 
 a powerful and defining moment in the life of Peace Missionary Ministries.
 \nThis service will be a time of worship\, impartation\, and celebration a
 s we honor what God has done and look forward to what He is about to do th
 rough this next chapter of leadership.\n12:00 PMSanctuary of Faith and Glo
 ry Church\nCome expecting a move of God and a time of great rejoicing.\nRe
 gistration link coming soon.
LAST-MODIFIED:20260423T102755
LOCATION:Sanctuary of Faith and Glory Church located at: 752 Bloomfield Ave
 nue\, Windsor\, CT 06095
SUMMARY:Pastoral Installation Services 
URL;VALUE=URI:https://peacemissionary279.tithelysetup2.com/events/pastoral-
 installation-services/2026-07-18
ATTACH;FILENAME=IMG_7953.jpeg;FMTTYPE=image/jpeg:https://dq5pwpg1q8ru0.clou
 dfront.net/2026/04/23/17/27/54/d5d1aaac-840f-4b2a-b995-2ac666f29e32/IMG_79
 53.jpeg
END:VEVENT
END:VCALENDAR
