BEGIN:VCALENDAR
VERSION:2.0
PRODID:icalendar-ruby
CALSCALE:GREGORIAN
METHOD:PUBLISH
BEGIN:VEVENT
DTSTAMP:20260423T194231Z
UID:3-409624@peacemissionary279.tithelysetup2.com
DTSTART:20260426T183000Z
DTEND:20260426T200000Z
CLASS:PUBLIC
CREATED:20260423T100409
DESCRIPTION:Join Us for Sunday Morning Worship at Peace Missionary Ministri
 es\nWe invite you to experience the presence of God with us every Sunday 
 morning.\nWorship Service: Sundays at 11:30 AMLocation: South Church (Erwi
 n Chapel)\nCome expecting powerful worship\, a life-changing Word\, and a 
 welcoming community where you can grow in your faith and walk with Christ.
 \nThere is a place for you here.
LAST-MODIFIED:20260423T100409
LOCATION:90 Main Street\, New Britain\, CT 06051
SUMMARY:Sunday Worship Service
URL;VALUE=URI:https://peacemissionary279.tithelysetup2.com/events/sunday-wo
 rship-service/2026-04-26
ATTACH;FILENAME=gettyimages-1491825410-640x640.jpg;FMTTYPE=image/jpeg:https
 ://dq5pwpg1q8ru0.cloudfront.net/2026/04/23/17/04/08/affa76a1-d7c7-4124-990
 e-0c8ee72318e5/gettyimages-1491825410-640x640.jpg
END:VEVENT
END:VCALENDAR
